BEGIN:VCALENDAR
VERSION:2.0
PRODID:-//jEvents 1.5 for Joomla//EN
CALSCALE:GREGORIAN
METHOD:PUBLISH
BEGIN:VEVENT

UID:030788dab5cb5ad76c9505edeed08534
CATEGORIES:Default
SUMMARY:Christmas Day
LOCATION:
DESCRIPTION;ENCODING=QUOTED-PRINTABLE:

DTSTAMP:20260423T115026Z
DTSTART:20141225
DTEND:20141225
SEQUENCE:0
TRANSP:OPAQUE
END:VEVENT
END:VCALENDAR