BEGIN:VCALENDAR
VERSION:2.0
PRODID:-//jEvents 1.5 for Joomla//EN
CALSCALE:GREGORIAN
METHOD:PUBLISH
BEGIN:VEVENT

UID:04c6f9f82d9e4a8ff4c467f952bb0ed9
CATEGORIES:Default
SUMMARY:River Ridge Communion
LOCATION:
DESCRIPTION;ENCODING=QUOTED-PRINTABLE:
X-EXTRAINFO:Pastor Dan-Trinity
DTSTAMP:20260421T175940Z
DTSTART:20150108T153000Z
DTEND:20150108T235959Z
SEQUENCE:0
TRANSP:OPAQUE
END:VEVENT
END:VCALENDAR