BEGIN:VCALENDAR
VERSION:2.0
PRODID:-//jEvents 1.5 for Joomla//EN
CALSCALE:GREGORIAN
METHOD:PUBLISH
BEGIN:VEVENT

UID:90ed3f0e64a690888b74c9b2f33663cb
CATEGORIES:Default
SUMMARY:Choir Rehearsal
LOCATION:
DESCRIPTION;ENCODING=QUOTED-PRINTABLE:

DTSTAMP:20260421T173911Z
DTSTART:20150107T190000Z
DTEND:20150107T200000Z
SEQUENCE:0
RRULE:FREQ=WEEKLY;COUNT=4;INTERVAL=1;BYDAY=WE
TRANSP:OPAQUE
END:VEVENT
END:VCALENDAR