BEGIN:VCALENDAR
VERSION:2.0
PRODID:-//jEvents 1.5 for Joomla//EN
CALSCALE:GREGORIAN
METHOD:PUBLISH
BEGIN:VEVENT

UID:f630f825ac4bf3c2c9b8918a73123e6f
CATEGORIES:Default
SUMMARY:COM Meeting 
LOCATION:Chamberlain
DESCRIPTION;ENCODING=QUOTED-PRINTABLE:

DTSTAMP:20260422T060540Z
DTSTART:20150210T110000Z
DTEND:20150210T235959Z
SEQUENCE:0
TRANSP:OPAQUE
END:VEVENT
END:VCALENDAR