BEGIN:VCALENDAR
VERSION:2.0
PRODID:-//jEvents 1.5 for Joomla//EN
CALSCALE:GREGORIAN
METHOD:PUBLISH
BEGIN:VEVENT

UID:0ed8b2acf0c213c48cbdf9aa4f70fb00
CATEGORIES:Default
SUMMARY:Oahe Association Meeting
LOCATION:Pierre
DESCRIPTION;ENCODING=QUOTED-PRINTABLE:

DTSTAMP:20260423T163056Z
DTSTART:20150322T150000Z
DTEND:20150322T235959Z
SEQUENCE:0
TRANSP:OPAQUE
END:VEVENT
END:VCALENDAR