BEGIN:VCALENDAR
VERSION:2.0
PRODID:-//jEvents 1.5 for Joomla//EN
CALSCALE:GREGORIAN
METHOD:PUBLISH
BEGIN:VEVENT

UID:1c6f1390989ce00ac0374b907f5f60fe
CATEGORIES:Default
SUMMARY:Prairie Sunset Communion
LOCATION:
DESCRIPTION;ENCODING=QUOTED-PRINTABLE:
X-EXTRAINFO:Pastor Keith Kraft
DTSTAMP:20260423T143833Z
DTSTART:20150312T141500Z
DTEND:20150312T151500Z
SEQUENCE:0
TRANSP:OPAQUE
END:VEVENT
END:VCALENDAR