BEGIN:VCALENDAR
VERSION:2.0
PRODID:-//jEvents 1.5 for Joomla//EN
CALSCALE:GREGORIAN
METHOD:PUBLISH
BEGIN:VEVENT

UID:29bfdd4d83232a4a7fb7ce661f762fbc
CATEGORIES:Default
SUMMARY:World Day of Prayer
LOCATION:Corner Stone Community Church
DESCRIPTION;ENCODING=QUOTED-PRINTABLE:

DTSTAMP:20260423T184854Z
DTSTART:20150306T143000Z
DTEND:20150306T235959Z
SEQUENCE:0
TRANSP:OPAQUE
END:VEVENT
END:VCALENDAR