BEGIN:VCALENDAR
VERSION:2.0
PRODID:-//jEvents 1.5 for Joomla//EN
CALSCALE:GREGORIAN
METHOD:PUBLISH
BEGIN:VEVENT

UID:3b6d6239b9bc42b54ffaec13d8ac7e8c
CATEGORIES:Default
SUMMARY:Community Service Fair
LOCATION:Scherr-Howe Event Center
DESCRIPTION;ENCODING=QUOTED-PRINTABLE:

DTSTAMP:20260424T104349Z
DTSTART:20150328T100000Z
DTEND:20150328T150000Z
SEQUENCE:0
TRANSP:OPAQUE
END:VEVENT
END:VCALENDAR