BEGIN:VCALENDAR
VERSION:2.0
PRODID:-//jEvents 1.5 for Joomla//EN
CALSCALE:GREGORIAN
METHOD:PUBLISH
BEGIN:VEVENT

UID:f7a2f4b4f2d5195fca1e34a1c7a66264
CATEGORIES:Default
SUMMARY:Maundy Thursday Worship
LOCATION:
DESCRIPTION;ENCODING=QUOTED-PRINTABLE:

DTSTAMP:20260424T075143Z
DTSTART:20150402T193000Z
DTEND:20150402T200000Z
SEQUENCE:0
TRANSP:OPAQUE
END:VEVENT
END:VCALENDAR