BEGIN:VCALENDAR
VERSION:2.0
PRODID:-//jEvents 1.5 for Joomla//EN
CALSCALE:GREGORIAN
METHOD:PUBLISH
BEGIN:VEVENT

UID:d059624a71a98c813820b474c1821f07
CATEGORIES:Default
SUMMARY:Youth Group 
LOCATION:Aberdeen
DESCRIPTION;ENCODING=QUOTED-PRINTABLE:
X-EXTRAINFO:Bowling
DTSTAMP:20260424T062230Z
DTSTART:20150314T140000Z
DTEND:20150314T235959Z
SEQUENCE:0
TRANSP:OPAQUE
END:VEVENT
END:VCALENDAR