BEGIN:VCALENDAR
VERSION:2.0
PRODID:-//jEvents 1.5 for Joomla//EN
CALSCALE:GREGORIAN
METHOD:PUBLISH
BEGIN:VEVENT

UID:26f8fad0926c7d2307ef72ed265fa6c1
CATEGORIES:Default
SUMMARY:Maundy Thurs. Practice
LOCATION:
DESCRIPTION;ENCODING=QUOTED-PRINTABLE:

DTSTAMP:20260424T002109Z
DTSTART:20150401T181500Z
DTEND:20150401T235959Z
SEQUENCE:0
TRANSP:OPAQUE
END:VEVENT
END:VCALENDAR