BEGIN:VCALENDAR
VERSION:2.0
PRODID:-//jEvents 1.5 for Joomla//EN
CALSCALE:GREGORIAN
METHOD:PUBLISH
BEGIN:VEVENT

UID:5825e368f1f58c2b3d1ad80cd6165f11
CATEGORIES:Default
SUMMARY:Board of Trustee's Meeting
LOCATION:
DESCRIPTION;ENCODING=QUOTED-PRINTABLE:

DTSTAMP:20260423T135622Z
DTSTART:20150408T200000Z
DTEND:20150408T235959Z
SEQUENCE:0
TRANSP:OPAQUE
END:VEVENT
END:VCALENDAR