BEGIN:VCALENDAR
VERSION:2.0
PRODID:-//jEvents 1.5 for Joomla//EN
CALSCALE:GREGORIAN
METHOD:PUBLISH
BEGIN:VEVENT

UID:8fd976d26c5fbfc95c439dde347cee92
CATEGORIES:Default
SUMMARY:Clergy Retreat
LOCATION:Eagle Butte
DESCRIPTION;ENCODING=QUOTED-PRINTABLE:

DTSTAMP:20260424T002444Z
DTSTART:20150416T170000Z
DTEND:20150418T120000Z
SEQUENCE:0
TRANSP:OPAQUE
END:VEVENT
END:VCALENDAR