BEGIN:VCALENDAR
VERSION:2.0
PRODID:-//jEvents 1.5 for Joomla//EN
CALSCALE:GREGORIAN
METHOD:PUBLISH
BEGIN:VEVENT

UID:31d7572c0d57defcfd85bcdef05ea316
CATEGORIES:Default
SUMMARY:MISYA Walk
LOCATION:Mobridge City Park
DESCRIPTION;ENCODING=QUOTED-PRINTABLE:
CONTACT:Pastor Keith Kraft
X-EXTRAINFO:Mental Illness/Suicide Yearly Awareness
DTSTAMP:20260424T140518Z
DTSTART:20150425T090000Z
DTEND:20150425T235959Z
SEQUENCE:0
TRANSP:OPAQUE
END:VEVENT
END:VCALENDAR