BEGIN:VCALENDAR
VERSION:2.0
PRODID:-//jEvents 1.5 for Joomla//EN
CALSCALE:GREGORIAN
METHOD:PUBLISH
BEGIN:VEVENT

UID:4b1e706e8da1fdf18506ef236a7b2cb1
CATEGORIES:Default
SUMMARY:Prairie Sunset Communion
LOCATION:
DESCRIPTION;ENCODING=QUOTED-PRINTABLE:
X-EXTRAINFO:With Pastor Keith Kraft
DTSTAMP:20260425T180138Z
DTSTART:20150514T141500Z
DTEND:20150514T151500Z
SEQUENCE:0
TRANSP:OPAQUE
END:VEVENT
END:VCALENDAR