BEGIN:VCALENDAR
VERSION:2.0
PRODID:-//jEvents 1.5 for Joomla//EN
CALSCALE:GREGORIAN
METHOD:PUBLISH
BEGIN:VEVENT

UID:63a1562ee00ea42aa5669ec508a3dc96
CATEGORIES:Default
SUMMARY:Pastor Keith Kraft Out of the Office
LOCATION:
DESCRIPTION;ENCODING=QUOTED-PRINTABLE:

DTSTAMP:20260426T033727Z
DTSTART:20150525T080000Z
DTEND:20150525T170000Z
SEQUENCE:0
RRULE:FREQ=DAILY;COUNT=1;INTERVAL=1
TRANSP:OPAQUE
END:VEVENT
END:VCALENDAR