BEGIN:VCALENDAR
VERSION:2.0
PRODID:-//jEvents 1.5 for Joomla//EN
CALSCALE:GREGORIAN
METHOD:PUBLISH
BEGIN:VEVENT

UID:134374be0244254566a864c5e9d784f4
CATEGORIES:Default
SUMMARY:Pastor Keith Kraft Out of the Office
LOCATION:
DESCRIPTION;ENCODING=QUOTED-PRINTABLE:

DTSTAMP:20260424T222956Z
DTSTART:20150526T080000Z
DTEND:20150526T170000Z
SEQUENCE:0
TRANSP:OPAQUE
END:VEVENT
END:VCALENDAR