BEGIN:VCALENDAR
VERSION:2.0
PRODID:-//jEvents 1.5 for Joomla//EN
CALSCALE:GREGORIAN
METHOD:PUBLISH
BEGIN:VEVENT

UID:17daacb1827b55ed1e6712537990f852
CATEGORIES:Default
SUMMARY:Pastor Keith Kraft Out of the Office
LOCATION:
DESCRIPTION;ENCODING=QUOTED-PRINTABLE:

DTSTAMP:20260425T175904Z
DTSTART:20150527T080000Z
DTEND:20150527T170000Z
SEQUENCE:0
TRANSP:OPAQUE
END:VEVENT
END:VCALENDAR