BEGIN:VCALENDAR
VERSION:2.0
PRODID:-//jEvents 1.5 for Joomla//EN
CALSCALE:GREGORIAN
METHOD:PUBLISH
BEGIN:VEVENT

UID:c083df517d1a8f0d3c7a42a3ce61a059
CATEGORIES:Default
SUMMARY:Coffee with the Pastor
LOCATION:
DESCRIPTION;ENCODING=QUOTED-PRINTABLE:

DTSTAMP:20260423T045028Z
DTSTART:20150602T093000Z
DTEND:20150602T103000Z
SEQUENCE:0
RRULE:FREQ=WEEKLY;COUNT=13;INTERVAL=1;BYDAY=TU
EXDATE:20150721T093000Z,20150714T093000Z
TRANSP:OPAQUE
END:VEVENT
END:VCALENDAR