BEGIN:VCALENDAR
VERSION:2.0
PRODID:-//jEvents 1.5 for Joomla//EN
CALSCALE:GREGORIAN
METHOD:PUBLISH
BEGIN:VEVENT

UID:72955a6cdb33f5bc8f046799b81f38f3
CATEGORIES:Default
SUMMARY:Vacation Bible School
LOCATION:Trinity Lutheran Church
DESCRIPTION;ENCODING=QUOTED-PRINTABLE:

DTSTAMP:20260425T125401Z
DTSTART:20150729T193000Z
DTEND:20150729T203000Z
SEQUENCE:0
TRANSP:OPAQUE
END:VEVENT
END:VCALENDAR