BEGIN:VCALENDAR
VERSION:2.0
PRODID:-//jEvents 1.5 for Joomla//EN
CALSCALE:GREGORIAN
METHOD:PUBLISH
BEGIN:VEVENT

UID:38ce9af727811eb5553d8f10f72e8b7c
CATEGORIES:Default
SUMMARY:Vacation Bible School
LOCATION:Trinity Lutheran Church
DESCRIPTION;ENCODING=QUOTED-PRINTABLE:

DTSTAMP:20260424T032739Z
DTSTART:20150730T193000Z
DTEND:20150730T203000Z
SEQUENCE:0
TRANSP:OPAQUE
END:VEVENT
END:VCALENDAR