BEGIN:VCALENDAR
VERSION:2.0
PRODID:-//jEvents 1.5 for Joomla//EN
CALSCALE:GREGORIAN
METHOD:PUBLISH
BEGIN:VEVENT

UID:627998dacbe9b91fc3a5fc6e977e9bb4
CATEGORIES:Default
SUMMARY:Vacation Bible School Finale with Program
LOCATION:Trinity Lutheran Church
DESCRIPTION;ENCODING=QUOTED-PRINTABLE:

DTSTAMP:20260423T171535Z
DTSTART:20150731T173000Z
DTEND:20150731T203000Z
SEQUENCE:0
TRANSP:OPAQUE
END:VEVENT
END:VCALENDAR