BEGIN:VCALENDAR
VERSION:2.0
PRODID:-//jEvents 1.5 for Joomla//EN
CALSCALE:GREGORIAN
METHOD:PUBLISH
BEGIN:VEVENT

UID:8cd81496141316ca3ca64cc43f8709c8
CATEGORIES:Default
SUMMARY:Outdoor Worship with Communion & Recognition
LOCATION:Indian Creek Campground
DESCRIPTION;ENCODING=QUOTED-PRINTABLE:

DTSTAMP:20260423T021056Z
DTSTART:20150802T093000Z
DTEND:20150802T103000Z
SEQUENCE:0
TRANSP:OPAQUE
END:VEVENT
END:VCALENDAR