BEGIN:VCALENDAR
VERSION:2.0
PRODID:-//jEvents 1.5 for Joomla//EN
CALSCALE:GREGORIAN
METHOD:PUBLISH
BEGIN:VEVENT

UID:db06aad34332fde5f91877b2a6a4740a
CATEGORIES:Default
SUMMARY:Prairie Sunset Communion
LOCATION:
DESCRIPTION;ENCODING=QUOTED-PRINTABLE:

DTSTAMP:20260424T044010Z
DTSTART:20150813T141500Z
DTEND:20150813T151500Z
SEQUENCE:0
TRANSP:OPAQUE
END:VEVENT
END:VCALENDAR