BEGIN:VCALENDAR
VERSION:2.0
PRODID:-//jEvents 1.5 for Joomla//EN
CALSCALE:GREGORIAN
METHOD:PUBLISH
BEGIN:VEVENT

UID:8c883de48dcba7e72d598518bb104995
CATEGORIES:Default
SUMMARY:Coffee with the Pastor
LOCATION:
DESCRIPTION;ENCODING=QUOTED-PRINTABLE:

DTSTAMP:20260423T233122Z
DTSTART:20150721T093000Z
DTEND:20150721T103000Z
SEQUENCE:0
TRANSP:OPAQUE
END:VEVENT
END:VCALENDAR