BEGIN:VCALENDAR
VERSION:2.0
PRODID:-//jEvents 1.5 for Joomla//EN
CALSCALE:GREGORIAN
METHOD:PUBLISH
BEGIN:VEVENT

UID:eb5e11ed8ab4f1685e30d4294a9e034d
CATEGORIES:Default
SUMMARY:Coffee & Fellowship
LOCATION:
DESCRIPTION;ENCODING=QUOTED-PRINTABLE:

DTSTAMP:20260422T013158Z
DTSTART:20150906T103000Z
DTEND:20150906T110000Z
SEQUENCE:0
RRULE:FREQ=WEEKLY;COUNT=8;INTERVAL=1;BYDAY=SU
TRANSP:OPAQUE
END:VEVENT
END:VCALENDAR