BEGIN:VCALENDAR
VERSION:2.0
PRODID:-//jEvents 1.5 for Joomla//EN
CALSCALE:GREGORIAN
METHOD:PUBLISH
BEGIN:VEVENT

UID:ccfcf14422663dd13a3e23ad04404650
CATEGORIES:Default
SUMMARY:Emerging Ministries Summit
LOCATION:Pierre, SD
DESCRIPTION;ENCODING=QUOTED-PRINTABLE:

DTSTAMP:20260423T181242Z
DTSTART:20150926T100000Z
DTEND:20150926T235959Z
SEQUENCE:0
TRANSP:OPAQUE
END:VEVENT
END:VCALENDAR