BEGIN:VCALENDAR
VERSION:2.0
PRODID:-//jEvents 1.5 for Joomla//EN
CALSCALE:GREGORIAN
METHOD:PUBLISH
BEGIN:VEVENT

UID:f6d2f79c3327438d313073ec43ebfe35
CATEGORIES:Default
SUMMARY:Conference Minister Installation
LOCATION:Pierre, SD
DESCRIPTION;ENCODING=QUOTED-PRINTABLE:

DTSTAMP:20260424T071836Z
DTSTART:20150926T133000Z
DTEND:20150926T235959Z
SEQUENCE:0
TRANSP:OPAQUE
END:VEVENT
END:VCALENDAR