BEGIN:VCALENDAR
VERSION:2.0
PRODID:-//jEvents 1.5 for Joomla//EN
CALSCALE:GREGORIAN
METHOD:PUBLISH
BEGIN:VEVENT

UID:31451ab8917df1837899734c0ed548f3
CATEGORIES:Default
SUMMARY:MMA Meeting
LOCATION:Trinity Lutheran
DESCRIPTION;ENCODING=QUOTED-PRINTABLE:

DTSTAMP:20260423T020841Z
DTSTART:20151019T083000Z
DTEND:20151019T093000Z
SEQUENCE:0
TRANSP:OPAQUE
END:VEVENT
END:VCALENDAR