BEGIN:VCALENDAR
VERSION:2.0
PRODID:-//jEvents 1.5 for Joomla//EN
CALSCALE:GREGORIAN
METHOD:PUBLISH
BEGIN:VEVENT

UID:b262d4c3bb9cb258252cc4f70e66bfa3
CATEGORIES:Default
SUMMARY:Fall Youth Retreat
LOCATION:Placerville
DESCRIPTION;ENCODING=QUOTED-PRINTABLE:

DTSTAMP:20260421T195050Z
DTSTART:20151113T190000Z
DTEND:20151115T090000Z
SEQUENCE:0
TRANSP:OPAQUE
END:VEVENT
END:VCALENDAR