BEGIN:VCALENDAR
VERSION:2.0
PRODID:-//jEvents 1.5 for Joomla//EN
CALSCALE:GREGORIAN
METHOD:PUBLISH
BEGIN:VEVENT

UID:f004376ed134431b5cfba4556e1c85e3
CATEGORIES:Default
SUMMARY:MMA Thrift Store & Food Pantry Fundraiser
LOCATION:Pizza Ranch
DESCRIPTION;ENCODING=QUOTED-PRINTABLE:

DTSTAMP:20260421T173856Z
DTSTART:20151116T170000Z
DTEND:20151116T235959Z
SEQUENCE:0
TRANSP:OPAQUE
END:VEVENT
END:VCALENDAR