BEGIN:VCALENDAR
VERSION:2.0
PRODID:-//jEvents 1.5 for Joomla//EN
CALSCALE:GREGORIAN
METHOD:PUBLISH
BEGIN:VEVENT

UID:ecef7bd272bcb39c3841385cf8a2f366
CATEGORIES:Default
SUMMARY:Longest Night-Blue Christmas Service
LOCATION:United Congregational Church, UCC
DESCRIPTION;ENCODING=QUOTED-PRINTABLE:

DTSTAMP:20260421T175915Z
DTSTART:20151221T190000Z
DTEND:20151221T235959Z
SEQUENCE:0
TRANSP:OPAQUE
END:VEVENT
END:VCALENDAR