BEGIN:VCALENDAR
VERSION:2.0
PRODID:-//jEvents 1.5 for Joomla//EN
CALSCALE:GREGORIAN
METHOD:PUBLISH
BEGIN:VEVENT

UID:d3496ce56769c6399d5f30949f58d266
CATEGORIES:Default
SUMMARY:Prairie Sunset Communion
LOCATION:
DESCRIPTION;ENCODING=QUOTED-PRINTABLE:
X-EXTRAINFO:With Pastor Dan
DTSTAMP:20260421T122657Z
DTSTART:20151210T141500Z
DTEND:20151210T235959Z
SEQUENCE:0
TRANSP:OPAQUE
END:VEVENT
END:VCALENDAR