BEGIN:VCALENDAR
VERSION:2.0
PRODID:-//jEvents 1.5 for Joomla//EN
CALSCALE:GREGORIAN
METHOD:PUBLISH
BEGIN:VEVENT

UID:c09c3401ba63bb3b7c91589ba3414966
CATEGORIES:Default
SUMMARY:Wedding Rehearsal
LOCATION:
DESCRIPTION;ENCODING=QUOTED-PRINTABLE:
X-EXTRAINFO:Jenny Bosch & Jesse Larson
DTSTAMP:20260423T171556Z
DTSTART:20151204T173000Z
DTEND:20151204T180000Z
SEQUENCE:0
TRANSP:OPAQUE
END:VEVENT
END:VCALENDAR