BEGIN:VCALENDAR
VERSION:2.0
PRODID:-//jEvents 1.5 for Joomla//EN
CALSCALE:GREGORIAN
METHOD:PUBLISH
BEGIN:VEVENT

UID:33731ac4c92b8cb313217d3655be465f
CATEGORIES:Default
SUMMARY:Wedding
LOCATION:
DESCRIPTION;ENCODING=QUOTED-PRINTABLE:
X-EXTRAINFO:Jenny Bosch & Jesse Larson
DTSTAMP:20260420T175821Z
DTSTART:20151205T163000Z
DTEND:20151205T235959Z
SEQUENCE:0
TRANSP:OPAQUE
END:VEVENT
END:VCALENDAR