BEGIN:VCALENDAR
VERSION:2.0
PRODID:-//jEvents 1.5 for Joomla//EN
CALSCALE:GREGORIAN
METHOD:PUBLISH
BEGIN:VEVENT

UID:b9c1ba9628bde1f8c28fb94afebb281c
CATEGORIES:Default
SUMMARY:Pastor Keith on Christmas Break
LOCATION:
DESCRIPTION;ENCODING=QUOTED-PRINTABLE:

DTSTAMP:20260420T171043Z
DTSTART:20151228T080000Z
DTEND:20151228T235959Z
SEQUENCE:0
RRULE:FREQ=DAILY;UNTIL=20160103T235959Z;INTERVAL=1
TRANSP:OPAQUE
END:VEVENT
END:VCALENDAR