BEGIN:VCALENDAR
VERSION:2.0
PRODID:-//jEvents 1.5 for Joomla//EN
CALSCALE:GREGORIAN
METHOD:PUBLISH
BEGIN:VEVENT

UID:4714fe834b7a1220f07fbc4951365544
CATEGORIES:Default
SUMMARY:MMA Meeting
LOCATION:
DESCRIPTION;ENCODING=QUOTED-PRINTABLE:

DTSTAMP:20260421T011309Z
DTSTART:20160112T083000Z
DTEND:20160112T093000Z
SEQUENCE:0
TRANSP:OPAQUE
END:VEVENT
END:VCALENDAR