BEGIN:VCALENDAR
VERSION:2.0
PRODID:-//jEvents 1.5 for Joomla//EN
CALSCALE:GREGORIAN
METHOD:PUBLISH
BEGIN:VEVENT

UID:75b05c9cb54d4da8bd17a8e7bbb76e57
CATEGORIES:Default
SUMMARY:Men's Breakfast
LOCATION:
DESCRIPTION;ENCODING=QUOTED-PRINTABLE:

DTSTAMP:20260425T125517Z
DTSTART:20160121T070000Z
DTEND:20160121T080000Z
SEQUENCE:0
TRANSP:OPAQUE
END:VEVENT
END:VCALENDAR