BEGIN:VCALENDAR
VERSION:2.0
PRODID:-//jEvents 1.5 for Joomla//EN
CALSCALE:GREGORIAN
METHOD:PUBLISH
BEGIN:VEVENT

UID:00ed8d01297c1491ece22c8a88e31b37
CATEGORIES:Default
SUMMARY:Adult Bible Study
LOCATION:
DESCRIPTION;ENCODING=QUOTED-PRINTABLE:

DTSTAMP:20260421T054146Z
DTSTART:20160207T093000Z
DTEND:20160207T103000Z
SEQUENCE:0
RRULE:FREQ=WEEKLY;COUNT=7;INTERVAL=1;BYDAY=SU
TRANSP:OPAQUE
END:VEVENT
END:VCALENDAR