BEGIN:VCALENDAR
VERSION:2.0
PRODID:-//jEvents 1.5 for Joomla//EN
CALSCALE:GREGORIAN
METHOD:PUBLISH
BEGIN:VEVENT

UID:4eeb88a715317c6d71d05cd76e1a1027
CATEGORIES:Default
SUMMARY:COM Meeting
LOCATION:Chamberlain
DESCRIPTION;ENCODING=QUOTED-PRINTABLE:

DTSTAMP:20260420T194550Z
DTSTART:20160209T110000Z
DTEND:20160209T235959Z
SEQUENCE:0
TRANSP:OPAQUE
END:VEVENT
END:VCALENDAR