BEGIN:VCALENDAR
VERSION:2.0
PRODID:-//jEvents 1.5 for Joomla//EN
CALSCALE:GREGORIAN
METHOD:PUBLISH
BEGIN:VEVENT

UID:7755656e6142add51c77a49ff9182378
CATEGORIES:Default
SUMMARY:Youth Group
LOCATION:Wrangler
DESCRIPTION;ENCODING=QUOTED-PRINTABLE:

DTSTAMP:20260421T064213Z
DTSTART:20160203T183000Z
DTEND:20160203T235959Z
SEQUENCE:0
TRANSP:OPAQUE
END:VEVENT
END:VCALENDAR