BEGIN:VCALENDAR
VERSION:2.0
PRODID:-//jEvents 1.5 for Joomla//EN
CALSCALE:GREGORIAN
METHOD:PUBLISH
BEGIN:VEVENT

UID:d7738f07180cf9590db392574e914390
CATEGORIES:Default
SUMMARY:Lenten Bible Study
LOCATION:
DESCRIPTION;ENCODING=QUOTED-PRINTABLE:
X-EXTRAINFO:Christianity and World Religionsby Adam Hamilton
DTSTAMP:20260420T194454Z
DTSTART:20160217T183000Z
DTEND:20160217T193000Z
SEQUENCE:0
RRULE:FREQ=WEEKLY;COUNT=5;INTERVAL=1;BYDAY=WE
TRANSP:OPAQUE
END:VEVENT
END:VCALENDAR