BEGIN:VCALENDAR
VERSION:2.0
PRODID:-//jEvents 1.5 for Joomla//EN
CALSCALE:GREGORIAN
METHOD:PUBLISH
BEGIN:VEVENT

UID:3408bd8c36ef07af3bcfba2ac2fb2af5
CATEGORIES:Default
SUMMARY:Easter Sunday Worship Service
LOCATION:
DESCRIPTION;ENCODING=QUOTED-PRINTABLE:

DTSTAMP:20260421T101914Z
DTSTART:20160327T110000Z
DTEND:20160327T120000Z
SEQUENCE:0
TRANSP:OPAQUE
END:VEVENT
END:VCALENDAR