BEGIN:VCALENDAR
VERSION:2.0
PRODID:-//jEvents 1.5 for Joomla//EN
CALSCALE:GREGORIAN
METHOD:PUBLISH
BEGIN:VEVENT

UID:321d272332f67996a87f6ec377d4541d
CATEGORIES:Default
SUMMARY:Golden Living Center Communion
LOCATION:
DESCRIPTION;ENCODING=QUOTED-PRINTABLE:

DTSTAMP:20260421T213815Z
DTSTART:20160324T102500Z
DTEND:20160324T110000Z
SEQUENCE:0
RRULE:FREQ=MONTHLY;COUNT=1;INTERVAL=2;BYMONTHDAY=+24
TRANSP:OPAQUE
END:VEVENT
END:VCALENDAR