BEGIN:VCALENDAR
VERSION:2.0
PRODID:-//jEvents 1.5 for Joomla//EN
CALSCALE:GREGORIAN
METHOD:PUBLISH
BEGIN:VEVENT

UID:52a10407fb28e9298e33135a531703d2
CATEGORIES:Default
SUMMARY:Easter
LOCATION:
DESCRIPTION;ENCODING=QUOTED-PRINTABLE:

DTSTAMP:20260421T070530Z
DTSTART:20160327
DTEND:20160327
SEQUENCE:0
TRANSP:OPAQUE
END:VEVENT
END:VCALENDAR