BEGIN:VCALENDAR
VERSION:2.0
PRODID:-//jEvents 1.5 for Joomla//EN
CALSCALE:GREGORIAN
METHOD:PUBLISH
BEGIN:VEVENT

UID:7efbc2ecd0c03fc9bdcbd1882b1c31aa
CATEGORIES:Default
SUMMARY:MISYA Walk
LOCATION:Starting at the Mobridge City Park
DESCRIPTION;ENCODING=QUOTED-PRINTABLE:
CONTACT:Pastor Keith Kraft-845-2931
X-EXTRAINFO:Any donations will go towards the American prevention of Mental Illness/Sui
 cide
DTSTAMP:20260425T200440Z
DTSTART:20160416T090000Z
DTEND:20160416T235959Z
SEQUENCE:0
TRANSP:OPAQUE
END:VEVENT
END:VCALENDAR