BEGIN:VCALENDAR
VERSION:2.0
PRODID:-//jEvents 1.5 for Joomla//EN
CALSCALE:GREGORIAN
METHOD:PUBLISH
BEGIN:VEVENT

UID:85eb66af2ca0bd54f75f72dad1d119f9
CATEGORIES:Default
SUMMARY:90th Birthday Party for Betty Jay
LOCATION:
DESCRIPTION;ENCODING=QUOTED-PRINTABLE:

DTSTAMP:20260421T150059Z
DTSTART:20160402T133000Z
DTEND:20160402T235959Z
SEQUENCE:0
TRANSP:OPAQUE
END:VEVENT
END:VCALENDAR