BEGIN:VCALENDAR
VERSION:2.0
PRODID:-//jEvents 1.5 for Joomla//EN
CALSCALE:GREGORIAN
METHOD:PUBLISH
BEGIN:VEVENT

UID:d1155256c4dab9e951eb44f2b8e18ac6
CATEGORIES:Default
SUMMARY:VBS
LOCATION:United Congregational Church, UCC
DESCRIPTION;ENCODING=QUOTED-PRINTABLE:

DTSTAMP:20260422T122653Z
DTSTART:20160531T173000Z
DTEND:20160531T200000Z
SEQUENCE:0
TRANSP:OPAQUE
END:VEVENT
END:VCALENDAR