BEGIN:VCALENDAR
VERSION:2.0
PRODID:-//jEvents 1.5 for Joomla//EN
CALSCALE:GREGORIAN
METHOD:PUBLISH
BEGIN:VEVENT

UID:7d419bd5be22a042bf8e9fc2040c4000
CATEGORIES:Default
SUMMARY:Golden Living Center Visits
LOCATION:
DESCRIPTION;ENCODING=QUOTED-PRINTABLE:

DTSTAMP:20260422T015825Z
DTSTART:20160504T100000Z
DTEND:20160504T235959Z
SEQUENCE:0
RRULE:FREQ=WEEKLY;COUNT=3;INTERVAL=1;BYDAY=WE
TRANSP:OPAQUE
END:VEVENT
END:VCALENDAR