BEGIN:VCALENDAR
VERSION:2.0
PRODID:-//jEvents 1.5 for Joomla//EN
CALSCALE:GREGORIAN
METHOD:PUBLISH
BEGIN:VEVENT

UID:c37a0b6fd02b43c75c8be03ff88e2423
CATEGORIES:Default
SUMMARY:Women of the Church Spring Supper
LOCATION:
DESCRIPTION;ENCODING=QUOTED-PRINTABLE:

DTSTAMP:20260424T203445Z
DTSTART:20160504T183000Z
DTEND:20160504T235959Z
SEQUENCE:0
TRANSP:OPAQUE
END:VEVENT
END:VCALENDAR